BEGIN:VCALENDAR
VERSION:2.0
PRODID:-//The Pines Times - ECPv6.15.20//NONSGML v1.0//EN
CALSCALE:GREGORIAN
METHOD:PUBLISH
X-WR-CALNAME:The Pines Times
X-ORIGINAL-URL:https://thepinestimes.com
X-WR-CALDESC:Events for The Pines Times
REFRESH-INTERVAL;VALUE=DURATION:PT1H
X-Robots-Tag:noindex
X-PUBLISHED-TTL:PT1H
BEGIN:VTIMEZONE
TZID:America/New_York
BEGIN:DAYLIGHT
TZOFFSETFROM:-0500
TZOFFSETTO:-0400
TZNAME:EDT
DTSTART:20240310T070000
END:DAYLIGHT
BEGIN:STANDARD
TZOFFSETFROM:-0400
TZOFFSETTO:-0500
TZNAME:EST
DTSTART:20241103T060000
END:STANDARD
BEGIN:DAYLIGHT
TZOFFSETFROM:-0500
TZOFFSETTO:-0400
TZNAME:EDT
DTSTART:20250309T070000
END:DAYLIGHT
BEGIN:STANDARD
TZOFFSETFROM:-0400
TZOFFSETTO:-0500
TZNAME:EST
DTSTART:20251102T060000
END:STANDARD
BEGIN:DAYLIGHT
TZOFFSETFROM:-0500
TZOFFSETTO:-0400
TZNAME:EDT
DTSTART:20260308T070000
END:DAYLIGHT
BEGIN:STANDARD
TZOFFSETFROM:-0400
TZOFFSETTO:-0500
TZNAME:EST
DTSTART:20261101T060000
END:STANDARD
END:VTIMEZONE
BEGIN:VEVENT
DTSTART;TZID=America/New_York:20250828T083000
DTEND;TZID=America/New_York:20250828T143000
DTSTAMP:20260423T084909
CREATED:20250424T203604Z
LAST-MODIFIED:20250424T203712Z
UID:10056970-1756369800-1756391400@thepinestimes.com
SUMMARY:Dine Out to Fight Trafficking Fundraiser
DESCRIPTION:Changing Destinies Ministry invites the community to Dine to Fight Trafficking. Make your meal matter at The Market Place Restaurant in Pinehurst. Dine in between 8:30am-2:30pm on April 24th\, May 29th\, June 26th\, July 31st or August 28th and mention Changing Destinies Ministry to your server. Your meal will help support the fight against human trafficking\, with a portion of proceeds donated to the cause. \n 
URL:https://thepinestimes.com/event/dine-out-to-fight-trafficking-fundraiser/2025-08-28/
LOCATION:The Market Place Restaurant\, 246 Olmsted Blvd.\, Pinehurst\, 28374\, United States
CATEGORIES:Adults,Donation,Family,Food,Fundraiser,Hobby/Enthusiast,Pinehurst Events,Senior,Shopping,Social
ATTACH;FMTTYPE=image/jpeg:https://thepinestimes.com/wp-content/uploads/ChangingDestiniesMinistryFeature-1.jpg
END:VEVENT
BEGIN:VEVENT
DTSTART;TZID=America/New_York:20250822T170000
DTEND;TZID=America/New_York:20250822T200000
DTSTAMP:20260423T084909
CREATED:20250725T131821Z
LAST-MODIFIED:20250725T132241Z
UID:10063719-1755882000-1755892800@thepinestimes.com
SUMMARY:Bites\, Bubbles & Beer
DESCRIPTION:Join as Cheeky Bubbles is teaming up with The Market Place Restaurant for the Bites\, Bubbles & Beer event on Friday\, August 22nd | 5pm-8pm! Enjoy bottomless apps\, prosecco and beer for the cost of $55. Unlimited pours and plates!
URL:https://thepinestimes.com/event/bites-bubbles-beer/
LOCATION:The Market Place Restaurant\, 246 Olmsted Blvd.\, Pinehurst\, 28374\, United States
CATEGORIES:Adults,Beer and Wine,Food,Pinehurst Events,Senior,Social,Tasting
ATTACH;FMTTYPE=image/jpeg:https://thepinestimes.com/wp-content/uploads/TheMarketPlaceRestaurantFeature.jpg
ORGANIZER;CN="Cheeky Bubbles":MAILTO:info@cheekybubblesllc.com
END:VEVENT
BEGIN:VEVENT
DTSTART;TZID=America/New_York:20250731T083000
DTEND;TZID=America/New_York:20250731T143000
DTSTAMP:20260423T084909
CREATED:20250424T203604Z
LAST-MODIFIED:20250424T203712Z
UID:10056969-1753950600-1753972200@thepinestimes.com
SUMMARY:Dine Out to Fight Trafficking Fundraiser
DESCRIPTION:Changing Destinies Ministry invites the community to Dine to Fight Trafficking. Make your meal matter at The Market Place Restaurant in Pinehurst. Dine in between 8:30am-2:30pm on April 24th\, May 29th\, June 26th\, July 31st or August 28th and mention Changing Destinies Ministry to your server. Your meal will help support the fight against human trafficking\, with a portion of proceeds donated to the cause. \n 
URL:https://thepinestimes.com/event/dine-out-to-fight-trafficking-fundraiser/2025-07-31/
LOCATION:The Market Place Restaurant\, 246 Olmsted Blvd.\, Pinehurst\, 28374\, United States
CATEGORIES:Adults,Donation,Family,Food,Fundraiser,Hobby/Enthusiast,Pinehurst Events,Senior,Shopping,Social
ATTACH;FMTTYPE=image/jpeg:https://thepinestimes.com/wp-content/uploads/ChangingDestiniesMinistryFeature-1.jpg
END:VEVENT
BEGIN:VEVENT
DTSTART;TZID=America/New_York:20250626T083000
DTEND;TZID=America/New_York:20250626T143000
DTSTAMP:20260423T084909
CREATED:20250424T203604Z
LAST-MODIFIED:20250424T203712Z
UID:10056968-1750926600-1750948200@thepinestimes.com
SUMMARY:Dine Out to Fight Trafficking Fundraiser
DESCRIPTION:Changing Destinies Ministry invites the community to Dine to Fight Trafficking. Make your meal matter at The Market Place Restaurant in Pinehurst. Dine in between 8:30am-2:30pm on April 24th\, May 29th\, June 26th\, July 31st or August 28th and mention Changing Destinies Ministry to your server. Your meal will help support the fight against human trafficking\, with a portion of proceeds donated to the cause. \n 
URL:https://thepinestimes.com/event/dine-out-to-fight-trafficking-fundraiser/2025-06-26/
LOCATION:The Market Place Restaurant\, 246 Olmsted Blvd.\, Pinehurst\, 28374\, United States
CATEGORIES:Adults,Donation,Family,Food,Fundraiser,Hobby/Enthusiast,Pinehurst Events,Senior,Shopping,Social
ATTACH;FMTTYPE=image/jpeg:https://thepinestimes.com/wp-content/uploads/ChangingDestiniesMinistryFeature-1.jpg
END:VEVENT
BEGIN:VEVENT
DTSTART;TZID=America/New_York:20250529T083000
DTEND;TZID=America/New_York:20250529T143000
DTSTAMP:20260423T084909
CREATED:20250424T203604Z
LAST-MODIFIED:20250424T203712Z
UID:10056967-1748507400-1748529000@thepinestimes.com
SUMMARY:Dine Out to Fight Trafficking Fundraiser
DESCRIPTION:Changing Destinies Ministry invites the community to Dine to Fight Trafficking. Make your meal matter at The Market Place Restaurant in Pinehurst. Dine in between 8:30am-2:30pm on April 24th\, May 29th\, June 26th\, July 31st or August 28th and mention Changing Destinies Ministry to your server. Your meal will help support the fight against human trafficking\, with a portion of proceeds donated to the cause. \n 
URL:https://thepinestimes.com/event/dine-out-to-fight-trafficking-fundraiser/2025-05-29/
LOCATION:The Market Place Restaurant\, 246 Olmsted Blvd.\, Pinehurst\, 28374\, United States
CATEGORIES:Adults,Donation,Family,Food,Fundraiser,Hobby/Enthusiast,Pinehurst Events,Senior,Shopping,Social
ATTACH;FMTTYPE=image/jpeg:https://thepinestimes.com/wp-content/uploads/ChangingDestiniesMinistryFeature-1.jpg
END:VEVENT
END:VCALENDAR