BEGIN:VCALENDAR
VERSION:2.0
PRODID:-//The Pines Times - ECPv6.15.20//NONSGML v1.0//EN
CALSCALE:GREGORIAN
METHOD:PUBLISH
X-WR-CALNAME:The Pines Times
X-ORIGINAL-URL:https://thepinestimes.com
X-WR-CALDESC:Events for The Pines Times
REFRESH-INTERVAL;VALUE=DURATION:PT1H
X-Robots-Tag:noindex
X-PUBLISHED-TTL:PT1H
BEGIN:VTIMEZONE
TZID:America/New_York
BEGIN:DAYLIGHT
TZOFFSETFROM:-0500
TZOFFSETTO:-0400
TZNAME:EDT
DTSTART:20240310T070000
END:DAYLIGHT
BEGIN:STANDARD
TZOFFSETFROM:-0400
TZOFFSETTO:-0500
TZNAME:EST
DTSTART:20241103T060000
END:STANDARD
BEGIN:DAYLIGHT
TZOFFSETFROM:-0500
TZOFFSETTO:-0400
TZNAME:EDT
DTSTART:20250309T070000
END:DAYLIGHT
BEGIN:STANDARD
TZOFFSETFROM:-0400
TZOFFSETTO:-0500
TZNAME:EST
DTSTART:20251102T060000
END:STANDARD
BEGIN:DAYLIGHT
TZOFFSETFROM:-0500
TZOFFSETTO:-0400
TZNAME:EDT
DTSTART:20260308T070000
END:DAYLIGHT
BEGIN:STANDARD
TZOFFSETFROM:-0400
TZOFFSETTO:-0500
TZNAME:EST
DTSTART:20261101T060000
END:STANDARD
BEGIN:DAYLIGHT
TZOFFSETFROM:-0500
TZOFFSETTO:-0400
TZNAME:EDT
DTSTART:20270314T070000
END:DAYLIGHT
BEGIN:STANDARD
TZOFFSETFROM:-0400
TZOFFSETTO:-0500
TZNAME:EST
DTSTART:20271107T060000
END:STANDARD
END:VTIMEZONE
BEGIN:VEVENT
DTSTART;TZID=America/New_York:20260411T100000
DTEND;TZID=America/New_York:20260411T140000
DTSTAMP:20260419T233036
CREATED:20211130T204219Z
LAST-MODIFIED:20260105T175521Z
UID:10004152-1775901600-1775916000@thepinestimes.com
SUMMARY:Sandhills Dog Fair 2026
DESCRIPTION:The Sandhills Dog Fair returns on Saturday\, April 11th\, from 10am-2pm at Pinehurst Village Arboretum! Join for a fun dog day out with their owners to shop dog-related vendors\, meet adoptable pups\, snap photos\, participate in contests\, enjoy music and food\, and try your luck at raffles to help raise money and awareness for participating rescues and shelters! This event is presented by Pinehurst Business Partners! \nVendors and sponsors\, please ONLY DM the Sandhills Dog Fair official Facebook or Instagram pages OR email jackie@sandhillsdogfair.com for information to avoid scammers. \n \n  \n 
URL:https://thepinestimes.com/event/sandhills-dog-fair-2026/
LOCATION:The Pinehurst Arboretum\, 80 Carolina Vis\, Pinehurst\, NC\, 28374\, United States
CATEGORIES:Adults,Animal Event,Children,Fair/Festival,Family,Food,Fundraiser,Games,Live Entertainment,Live Music,Moore County Events,Nature/Outdoors,Pets/Animals,Pinehurst Events,Senior,Social,Vendors
ATTACH;FMTTYPE=image/jpeg:https://thepinestimes.com/wp-content/uploads/SandhillsDogFairFeature.jpg
END:VEVENT
BEGIN:VEVENT
DTSTART;TZID=America/New_York:20260410T171500
DTEND;TZID=America/New_York:20260410T210000
DTSTAMP:20260419T233036
CREATED:20250605T165806Z
LAST-MODIFIED:20260401T162228Z
UID:10060955-1775841300-1775854800@thepinestimes.com
SUMMARY:Pinehurst Live After 5 2026 with The Ray Band
DESCRIPTION:Join the Village of Pinehurst to kick off the 2026 Live After 5 Concert Series at The Village Arboretum on Friday\, April 10th! Moore County’s own Ceirra Doll will be opening the show playing 5:15pm-5:50pm. The Ray Band is headlining the evening\, performing 6:00pm-9:00pm. Enjoy the live music\, dancing\, children’s activities and food trucks on site. Picnic baskets are allowed; however\, outside alcoholic beverages are not permitted. Please bring lawn chairs and blankets for your own personal comfort. This is a free\, family-friendly event.
URL:https://thepinestimes.com/event/pinehurst-live-after-5-2026-with-the-ray-band/
LOCATION:The Pinehurst Arboretum\, 80 Carolina Vis\, Pinehurst\, NC\, 28374\, United States
CATEGORIES:Adults,Arts,Children,Concert,Dance,Family,Food,Hobby/Enthusiast,Live Music,Music,Nature/Outdoors,Night Life,Pinehurst Events,Senior,Social,Teen Activities,Young Adults
ATTACH;FMTTYPE=image/jpeg:https://thepinestimes.com/wp-content/uploads/LiveAfter5Feature.jpg
END:VEVENT
BEGIN:VEVENT
DTSTART;TZID=America/New_York:20250830T100000
DTEND;TZID=America/New_York:20250830T120000
DTSTAMP:20260419T233036
CREATED:20240814T135850Z
LAST-MODIFIED:20250826T153752Z
UID:10042292-1756548000-1756555200@thepinestimes.com
SUMMARY:Pinehurst Barbecue Festival: ”Q”-School Grilling Class
DESCRIPTION:The community is invited to the fifth annual Pinehurst Barbecue Festival with Tarheel Festivals\, LLC! The festival takes place over Labor Day Weekend in the Village of Pinehurst. Presented by US Foods\, Carolina Co-Packing\, Our State Magazine and Pinehurst Resort\, this three-day festival\, headlined by Prieto\, offers a unique culinary experience of various barbecue meats\, seafood and traditional sides. Award-winning Pitmasters from across North Carolina come together to offer a “Celebration of Taste and Tradition.” \nSaturday\, August 30th\n”Q”-School Grilling Class takes place at the Pinehurst Arboretum\, under covered seating | 10:00am-12:00pm. Pinehurst has played host to many a “Q School” in its day\, but none quite like this. Experience cooking and grilling demonstrations with a range of meats on a variety of grills. This class is led by Christopher Prieto of Prime Barbecue in Knightdale. Learn and eat at the same time. Sampling will be provided following the class. A cash bar will be available. Please note that no children under 12 are allowed at this event. Children 12-17 must be accompanied by a responsible ticketed adult. For full details on each event and to purchase tickets\, visit the website event link provided below. \n  \n  \n 
URL:https://thepinestimes.com/event/pinehurst-barbecue-festival-q-school-grilling-class/
LOCATION:The Pinehurst Arboretum\, 80 Carolina Vis\, Pinehurst\, NC\, 28374\, United States
CATEGORIES:Adults,Art/Craft Workshops,Beer and Wine,Fair/Festival,Food,Hobby/Enthusiast,Labor Day,Live Entertainment,Live Music,Nature/Outdoors,Pinehurst Events,Senior,Social,Tasting,Vendors
ATTACH;FMTTYPE=image/jpeg:https://thepinestimes.com/wp-content/uploads/PinehurstBBQFestivalFeature.jpg
END:VEVENT
END:VCALENDAR