BEGIN:VCALENDAR
VERSION:2.0
PRODID:-//The Pines Times - ECPv6.15.20//NONSGML v1.0//EN
CALSCALE:GREGORIAN
METHOD:PUBLISH
X-ORIGINAL-URL:https://thepinestimes.com
X-WR-CALDESC:Events for The Pines Times
REFRESH-INTERVAL;VALUE=DURATION:PT1H
X-Robots-Tag:noindex
X-PUBLISHED-TTL:PT1H
BEGIN:VTIMEZONE
TZID:America/New_York
BEGIN:DAYLIGHT
TZOFFSETFROM:-0500
TZOFFSETTO:-0400
TZNAME:EDT
DTSTART:20250309T070000
END:DAYLIGHT
BEGIN:STANDARD
TZOFFSETFROM:-0400
TZOFFSETTO:-0500
TZNAME:EST
DTSTART:20251102T060000
END:STANDARD
BEGIN:DAYLIGHT
TZOFFSETFROM:-0500
TZOFFSETTO:-0400
TZNAME:EDT
DTSTART:20260308T070000
END:DAYLIGHT
BEGIN:STANDARD
TZOFFSETFROM:-0400
TZOFFSETTO:-0500
TZNAME:EST
DTSTART:20261101T060000
END:STANDARD
BEGIN:DAYLIGHT
TZOFFSETFROM:-0500
TZOFFSETTO:-0400
TZNAME:EDT
DTSTART:20270314T070000
END:DAYLIGHT
BEGIN:STANDARD
TZOFFSETFROM:-0400
TZOFFSETTO:-0500
TZNAME:EST
DTSTART:20271107T060000
END:STANDARD
END:VTIMEZONE
BEGIN:VEVENT
DTSTART;TZID=America/New_York:20260329T090000
DTEND;TZID=America/New_York:20260329T170000
DTSTAMP:20260423T003004
CREATED:20260219T182341Z
LAST-MODIFIED:20260320T133515Z
UID:10082984-1774774800-1774803600@thepinestimes.com
SUMMARY:Family Farm Day-Easter Edition
DESCRIPTION:Step away from the busy world and enjoy a full day of fresh air at the Family Farm Day Easter Edition\, hosted by Pint Sized Pasture on Saturday\, March 28th\, and Sunday\, March 29th\, from 9:00AM-5:00PM both days. Explore the farm and meet a variety of animals\, including playful goats and large animals available for petting and brushing. Children will especially love the small animal pens where they can snuggle bunnies and the interactive areas featuring a giant corn pit\, mud kitchen\, and a music wall. \nThere will be appearances by the Easter Bunny for photos and organized egg hunts designed for all age groups. To ensure a stress-free experience\, all eggs are kept empty during the hunt\, and every child receives a goodie bag afterward\, with gluten-free and nut-free options available while supplies last. Beyond the animal encounters\, admission includes access to bounce houses\, yard games like cornhole and ring toss\, and even axe throwing for the adults. Local food trucks will be on-site to provide plenty of dining options\, and face painting is available for an additional fee. \nAdmission is $10\, while children age one and under are free. Tickets can be purchased at the gate or online through the event website.
URL:https://thepinestimes.com/event/february-family-farm-days/2026-03-29/
LOCATION:The Pint Sized Pasture\, 1525 Fire Tower Road\, Sanford\, NC\, 27330\, United States
CATEGORIES:Children,Easter,Family,Farm Event,Games,Hobby/Enthusiast,Nature/Outdoors,Pets/Animals,Piney's Kids,Piney's Tiny's,Sanford Events,Social,Teen Activities,Young Adults
ATTACH;FMTTYPE=image/jpeg:https://thepinestimes.com/wp-content/uploads/PintSizedPastureFeature.jpg
END:VEVENT
BEGIN:VEVENT
DTSTART;TZID=America/New_York:20260328T090000
DTEND;TZID=America/New_York:20260328T170000
DTSTAMP:20260423T003004
CREATED:20260219T182341Z
LAST-MODIFIED:20260320T133515Z
UID:10082983-1774688400-1774717200@thepinestimes.com
SUMMARY:Family Farm Day-Easter Edition
DESCRIPTION:Step away from the busy world and enjoy a full day of fresh air at the Family Farm Day Easter Edition\, hosted by Pint Sized Pasture on Saturday\, March 28th\, and Sunday\, March 29th\, from 9:00AM-5:00PM both days. Explore the farm and meet a variety of animals\, including playful goats and large animals available for petting and brushing. Children will especially love the small animal pens where they can snuggle bunnies and the interactive areas featuring a giant corn pit\, mud kitchen\, and a music wall. \nThere will be appearances by the Easter Bunny for photos and organized egg hunts designed for all age groups. To ensure a stress-free experience\, all eggs are kept empty during the hunt\, and every child receives a goodie bag afterward\, with gluten-free and nut-free options available while supplies last. Beyond the animal encounters\, admission includes access to bounce houses\, yard games like cornhole and ring toss\, and even axe throwing for the adults. Local food trucks will be on-site to provide plenty of dining options\, and face painting is available for an additional fee. \nAdmission is $10\, while children age one and under are free. Tickets can be purchased at the gate or online through the event website.
URL:https://thepinestimes.com/event/february-family-farm-days/2026-03-28/
LOCATION:The Pint Sized Pasture\, 1525 Fire Tower Road\, Sanford\, NC\, 27330\, United States
CATEGORIES:Children,Easter,Family,Farm Event,Games,Hobby/Enthusiast,Nature/Outdoors,Pets/Animals,Piney's Kids,Piney's Tiny's,Sanford Events,Social,Teen Activities,Young Adults
ATTACH;FMTTYPE=image/jpeg:https://thepinestimes.com/wp-content/uploads/PintSizedPastureFeature.jpg
END:VEVENT
BEGIN:VEVENT
DTSTART;TZID=America/New_York:20260222T090000
DTEND;TZID=America/New_York:20260222T170000
DTSTAMP:20260423T003004
CREATED:20260125T232944Z
LAST-MODIFIED:20260219T182122Z
UID:10080030-1771750800-1771779600@thepinestimes.com
SUMMARY:February Family Farm Days (Rescheduled)
DESCRIPTION:“Well… the rain had other plans. So we’re moving Farm Day to next weekend! Feb 28th & March 1st!! But we decided to turn it into something FUN…Because of the date change\, we’ll be doing a special giveaway to celebrate. Trust us — you’re going to want to be following along for this one. Make sure you’re following our page so you don’t miss it. More time to invite your friends. More time to get excited. And something really sweet coming soon.” \nEnjoy a Family Farm Day at Pint Sized Pasture in Sanford! Admission includes meeting and feeding farm animals\, petting and brushing larger animals\, bunny snuggles\, playful goats\, unlimited photo ops\, yard games\, a giant corn pit\, interactive music wall\, bounce houses\, climbing fun\, and the popular Mud Kitchen. Local food trucks will be on site\, with face painting available for an additional fee. Family Farm Days run 9:00am-5:00pm both days. Admission is $10 per person\, children 1 and under are free\, and tickets can be purchased online or at the gate.
URL:https://thepinestimes.com/event/february-family-farm-days-rescheduled/2026-02-22/
LOCATION:The Pint Sized Pasture\, 1525 Fire Tower Road\, Sanford\, NC\, 27330\, United States
CATEGORIES:Children,Family,Farm Event,Games,Hobby/Enthusiast,Nature/Outdoors,Pets/Animals,Piney's Kids,Piney's Tiny's,Sanford Events,Social,Teen Activities,Young Adults
ATTACH;FMTTYPE=image/jpeg:https://thepinestimes.com/wp-content/uploads/PintSizedPastureFeature.jpg
END:VEVENT
BEGIN:VEVENT
DTSTART;TZID=America/New_York:20260221T090000
DTEND;TZID=America/New_York:20260221T170000
DTSTAMP:20260423T003004
CREATED:20260125T232944Z
LAST-MODIFIED:20260219T182122Z
UID:10080029-1771664400-1771693200@thepinestimes.com
SUMMARY:February Family Farm Days (Rescheduled)
DESCRIPTION:“Well… the rain had other plans. So we’re moving Farm Day to next weekend! Feb 28th & March 1st!! But we decided to turn it into something FUN…Because of the date change\, we’ll be doing a special giveaway to celebrate. Trust us — you’re going to want to be following along for this one. Make sure you’re following our page so you don’t miss it. More time to invite your friends. More time to get excited. And something really sweet coming soon.” \nEnjoy a Family Farm Day at Pint Sized Pasture in Sanford! Admission includes meeting and feeding farm animals\, petting and brushing larger animals\, bunny snuggles\, playful goats\, unlimited photo ops\, yard games\, a giant corn pit\, interactive music wall\, bounce houses\, climbing fun\, and the popular Mud Kitchen. Local food trucks will be on site\, with face painting available for an additional fee. Family Farm Days run 9:00am-5:00pm both days. Admission is $10 per person\, children 1 and under are free\, and tickets can be purchased online or at the gate.
URL:https://thepinestimes.com/event/february-family-farm-days-rescheduled/2026-02-21/
LOCATION:The Pint Sized Pasture\, 1525 Fire Tower Road\, Sanford\, NC\, 27330\, United States
CATEGORIES:Children,Family,Farm Event,Games,Hobby/Enthusiast,Nature/Outdoors,Pets/Animals,Piney's Kids,Piney's Tiny's,Sanford Events,Social,Teen Activities,Young Adults
ATTACH;FMTTYPE=image/jpeg:https://thepinestimes.com/wp-content/uploads/PintSizedPastureFeature.jpg
END:VEVENT
END:VCALENDAR