BEGIN:VCALENDAR
VERSION:2.0
PRODID:-//The Pines Times - ECPv6.15.20//NONSGML v1.0//EN
CALSCALE:GREGORIAN
METHOD:PUBLISH
X-WR-CALNAME:The Pines Times
X-ORIGINAL-URL:https://thepinestimes.com
X-WR-CALDESC:Events for The Pines Times
REFRESH-INTERVAL;VALUE=DURATION:PT1H
X-Robots-Tag:noindex
X-PUBLISHED-TTL:PT1H
BEGIN:VTIMEZONE
TZID:America/New_York
BEGIN:DAYLIGHT
TZOFFSETFROM:-0500
TZOFFSETTO:-0400
TZNAME:EDT
DTSTART:20240310T070000
END:DAYLIGHT
BEGIN:STANDARD
TZOFFSETFROM:-0400
TZOFFSETTO:-0500
TZNAME:EST
DTSTART:20241103T060000
END:STANDARD
BEGIN:DAYLIGHT
TZOFFSETFROM:-0500
TZOFFSETTO:-0400
TZNAME:EDT
DTSTART:20250309T070000
END:DAYLIGHT
BEGIN:STANDARD
TZOFFSETFROM:-0400
TZOFFSETTO:-0500
TZNAME:EST
DTSTART:20251102T060000
END:STANDARD
BEGIN:DAYLIGHT
TZOFFSETFROM:-0500
TZOFFSETTO:-0400
TZNAME:EDT
DTSTART:20260308T070000
END:DAYLIGHT
BEGIN:STANDARD
TZOFFSETFROM:-0400
TZOFFSETTO:-0500
TZNAME:EST
DTSTART:20261101T060000
END:STANDARD
END:VTIMEZONE
BEGIN:VEVENT
DTSTART;TZID=America/New_York:20251122T083000
DTEND;TZID=America/New_York:20251122T120000
DTSTAMP:20260419T083955
CREATED:20230921T170305Z
LAST-MODIFIED:20251107T174517Z
UID:10020908-1763800200-1763812800@thepinestimes.com
SUMMARY:FirstHealth Pinehurst Turkey Trot & The Little Gobbler Fun Run 2025
DESCRIPTION:Running for a cause; join in giving back! “Become a Part of the Tradition and the oldest Turkey Trot in NC!” The 44th annual FirstHealth Pinehurst Turkey Trot 5K & Fun Run and The Little Gobbler-1 Mile Fun Run takes place on Saturday\, November 22nd! The FirstHealth Pinehurst Turkey Trot begins at The Village Arboretum\, presented by the Village of Pinehurst and Set Up Events. Runners will trek through the streets and residential neighborhoods of the Village. Runners are encouraged to come festively dressed to make the run extra fun! All finishers receive a hot chocolate and a metal. \nFor each race entry\, a donation of $1 will be made to Women of the Pines\, a fantastic local organization that supports the sick\, hungry\, homeless\, and abused. In addition\, everyone is encouraged to bring non-perishable food items to the race to support the Food Bank of Central & Eastern North Carolina. These donations will go directly to families in need in Lee\, Moore\, Richmond\, and Scotland counties\, helping those facing food insecurity\, especially during the holidays. \nWhat you can expect at this years Turkey Trot: \nLong Sleeve Race Shirt\nFinisher Medal\nAwards for top Overall Male\, Female\, Masters Male and Female AND 3 Deep Age Group Awards\nA celebration of Fall\, Family\, Friends and FUN! \nSchedule: \n7:00am – 8:30am – Packet Pick-Up (Timmel Pavilion at Village Arboretum)\n8:30am – Fun Run\n9:00am – 5K\n10:00am/10:30 am – Awards \nFor full details and run registration\, follow the link provided below. \n \n  \n 
URL:https://thepinestimes.com/event/firsthealth-pinehurst-turkey-trot-the-little-gobbler-fun-run-2025/
LOCATION:The Village Arboretum\, 395 Magnolia Rd\, Pinehurst\, NC\, United States
CATEGORIES:Adults,Children,Donation,Fall,Fall in the Sandhills,Family,Fundraiser,Health & Wellness,Hobby/Enthusiast,Moore County Events,Nature/Outdoors,Pinehurst Events,Senior,Social,Thanksgiving,Walk/Run
ATTACH;FMTTYPE=image/jpeg:https://thepinestimes.com/wp-content/uploads/TurkeyTrotFeature-3.jpg
END:VEVENT
BEGIN:VEVENT
DTSTART;TZID=America/New_York:20250927T110000
DTEND;TZID=America/New_York:20250927T140000
DTSTAMP:20260419T083955
CREATED:20230709T161530Z
LAST-MODIFIED:20250902T125906Z
UID:10014766-1758970800-1758981600@thepinestimes.com
SUMMARY:Flutterby Festival
DESCRIPTION:Celebrate butterflies and other pollinators with a day of family fun and educational activities during the sixth annual Flutterby Festival at the Village Arboretum\, Pinehurst\, on Saturday\, September 27th | 11am-2pm. Hosted by the Village Heritage Foundation and the Village of Pinehurst\, the event promotes pollinator habitats. In addition\, it supports active efforts to conserve the monarch butterfly and other pollinator species\, designed to be a day of fun and learning for all ages. \nPrepare to be amazed by our educational and fun demonstrations and programs. You’ll have a rare opportunity to interact with and feed hundreds of newly emerged monarch butterflies in the Magical Monarch Tents. Tour the 10\,000-square-foot Native Pollinator Garden\, completed in 2020 and located in the Village Arboretum\, that includes native flowering perennials\, host plants\, walkways\, and the Pollinator Pavilion. Tag and release adult monarch butterflies in the garden in time for the insect’s migration to Mexico. \nPartners for Children & Families\, a local non-profit organization\, will have pollinator-inspired books for families. As a special highlight\, Miss Moore County’s Teen will read pollinator-inspired books to visitors. \nAdditional activities include: Butterfly arts and crafts | Learn about other pollinators like birds and bees | Discussions on native plants\, native plant sale | Information on creating a backyard pollinator garden. \nEnjoy live music and refreshments available for purchase from food trucks. Dogs must be leashed and are not permitted in the exhibit tents or the monarch tagging area. The Village Heritage Foundation presents the Flutterby Festival with support from the Village of Pinehurst and Partners for Children & Families. Flutterby Festival is family friendly and free to the public. To reserve your space\, follow the link provided below.
URL:https://thepinestimes.com/event/flutterby-festival/
LOCATION:The Village Arboretum\, 395 Magnolia Rd\, Pinehurst\, NC\, United States
CATEGORIES:Adults,Children,Crafts,Educational,Exhibits,Fair/Festival,Fall,Fall in the Sandhills,Family,Food,Games,Hobby/Enthusiast,Nature/Outdoors,Pets/Animals,Pinehurst Events,Senior,Social
ATTACH;FMTTYPE=image/jpeg:https://thepinestimes.com/wp-content/uploads/Village-Heritage-Foundation-Feature.jpg
END:VEVENT
BEGIN:VEVENT
DTSTART;TZID=America/New_York:20250920T170000
DTEND;TZID=America/New_York:20250920T210000
DTSTAMP:20260419T083955
CREATED:20230727T221348Z
LAST-MODIFIED:20250916T163522Z
UID:10015425-1758387600-1758402000@thepinestimes.com
SUMMARY:Eats\, Beats\, and Brews Festival
DESCRIPTION:“Everyone’s favorite food truck rodeo is back at the Village Arboretum!” Bring your appetite and your dancing shoes as The Village of Pinehurst presents the annual Eats\, Beats\, and Brews Festival at The Pinehurst Arboretum on Saturday\, September 20th | 5pm-9pm! Enjoy a great lineup of your favorite local vendors as well as some new additions. Wine and craft beer will be available for purchase this year. There will be entertainment throughout the evening with live music and children’s activities. Live music will be provided by Julia Golden from 5:00pm-6:00pm\, followed by Stonebrook from 6:00pm-9:00pm.
URL:https://thepinestimes.com/event/eats-beats-and-brews/
LOCATION:The Village Arboretum\, 395 Magnolia Rd\, Pinehurst\, NC\, United States
CATEGORIES:Adults,Beer and Wine,Fair/Festival,Fall,Fall in the Sandhills,Family,Food,Hobby/Enthusiast,Live Music,Nature/Outdoors,Pinehurst Events,Pines Connector,Piney's Kids,Piney's Tiny's,Senior,Social,Teen Activities,Vendors,Young Adults
ATTACH;FMTTYPE=image/jpeg:https://thepinestimes.com/wp-content/uploads/EatsBeatsBrewsFlyer.jpg
END:VEVENT
BEGIN:VEVENT
DTSTART;TZID=America/New_York:20250910T110000
DTEND;TZID=America/New_York:20250910T160000
DTSTAMP:20260419T083955
CREATED:20250906T204508Z
LAST-MODIFIED:20250906T204508Z
UID:10067761-1757502000-1757520000@thepinestimes.com
SUMMARY:Community Blood Drive
DESCRIPTION:Donate Blood. Save a life. OneBlood will be on site at the Village Arboretum on Wednesday\, September 10th | 11am-4pm. Donors receive a $20 eGift Card and OneBlood T-sdhirt. Appointments are encouraged. To register\, follow the link provided below. \n  \n 
URL:https://thepinestimes.com/event/community-blood-drive-19/
LOCATION:The Village Arboretum\, 395 Magnolia Rd\, Pinehurst\, NC\, United States
CATEGORIES:Adults,Blood Drive,Donation,Health & Wellness,Hobby/Enthusiast,Pinehurst Events,Senior,Social,Volunteer
ATTACH;FMTTYPE=image/jpeg:https://thepinestimes.com/wp-content/uploads/OneBloodFeature.jpg
END:VEVENT
BEGIN:VEVENT
DTSTART;TZID=America/New_York:20250506T160000
DTEND;TZID=America/New_York:20250506T180000
DTSTAMP:20260419T083955
CREATED:20230319T131538Z
LAST-MODIFIED:20250317T143613Z
UID:10010356-1746547200-1746554400@thepinestimes.com
SUMMARY:Village Heritage Foundation: Spring Garden Party
DESCRIPTION:The Village Heritage Foundation is hosting their 3rd annual Spring Garden Party on Tuesday\, May 6th\, 4pm-6pm. Join and celebrate spring in the spacious Village Arboretum at Timmel Pavilion in the Village Arboretum\, Pinehurst. Refreshments\, wine and hors d’oeuvres and floral embellishments are enhanced by guests’ colorful spring attire. The Village Arboretum allows visitors to share\, discover and enjoy nature’s seasonal beauty. The 35-acre park embraces six garden destinations\, including the tranquil Woodland Garden adjacent to Village Hall and Joyce’s Meadow. The cost is $30. In the event of rain\, the party will be held at the Fair Barn\, Pinehurst. \n“The Village Heritage Foundation is a private nonprofit 501(c)3 foundation in Pinehurst. Its mission is to promote the preservation\, restoration\, enhancement\, and maintenance of the unique character of the historic Village of Pinehurst.” Donations to the Arboretum may be made to the Village Heritage Foundation. For full details and ticket purchases\, follow the link provided below.
URL:https://thepinestimes.com/event/spring-garden-party/
LOCATION:The Village Arboretum\, 395 Magnolia Rd\, Pinehurst\, NC\, United States
CATEGORIES:Adults,Exhibits,Fair/Festival,Family,Hobby/Enthusiast,Live Entertainment,Nature/Outdoors,Pinehurst Events,Senior,Social
ATTACH;FMTTYPE=image/jpeg:https://thepinestimes.com/wp-content/uploads/Village-Heritage-Foundation-Feature.jpg
END:VEVENT
END:VCALENDAR