BEGIN:VCALENDAR
VERSION:2.0
PRODID:-//The Pines Times - ECPv6.15.20//NONSGML v1.0//EN
CALSCALE:GREGORIAN
METHOD:PUBLISH
X-WR-CALNAME:The Pines Times
X-ORIGINAL-URL:https://thepinestimes.com
X-WR-CALDESC:Events for The Pines Times
REFRESH-INTERVAL;VALUE=DURATION:PT1H
X-Robots-Tag:noindex
X-PUBLISHED-TTL:PT1H
BEGIN:VTIMEZONE
TZID:America/New_York
BEGIN:DAYLIGHT
TZOFFSETFROM:-0500
TZOFFSETTO:-0400
TZNAME:EDT
DTSTART:20240310T070000
END:DAYLIGHT
BEGIN:STANDARD
TZOFFSETFROM:-0400
TZOFFSETTO:-0500
TZNAME:EST
DTSTART:20241103T060000
END:STANDARD
BEGIN:DAYLIGHT
TZOFFSETFROM:-0500
TZOFFSETTO:-0400
TZNAME:EDT
DTSTART:20250309T070000
END:DAYLIGHT
BEGIN:STANDARD
TZOFFSETFROM:-0400
TZOFFSETTO:-0500
TZNAME:EST
DTSTART:20251102T060000
END:STANDARD
BEGIN:DAYLIGHT
TZOFFSETFROM:-0500
TZOFFSETTO:-0400
TZNAME:EDT
DTSTART:20260308T070000
END:DAYLIGHT
BEGIN:STANDARD
TZOFFSETFROM:-0400
TZOFFSETTO:-0500
TZNAME:EST
DTSTART:20261101T060000
END:STANDARD
BEGIN:DAYLIGHT
TZOFFSETFROM:-0500
TZOFFSETTO:-0400
TZNAME:EDT
DTSTART:20270314T070000
END:DAYLIGHT
BEGIN:STANDARD
TZOFFSETFROM:-0400
TZOFFSETTO:-0500
TZNAME:EST
DTSTART:20271107T060000
END:STANDARD
END:VTIMEZONE
BEGIN:VEVENT
DTSTART;TZID=America/New_York:20260208T140000
DTEND;TZID=America/New_York:20260208T163000
DTSTAMP:20260420T212414
CREATED:20240111T172502Z
LAST-MODIFIED:20260127T164931Z
UID:10027527-1770559200-1770568200@thepinestimes.com
SUMMARY:National Shakespeare Competition 2026
DESCRIPTION:The English Speaking Union presents the 2026 National Shakespeare Competition! 4 schools\, with approximately 15 students in all\, in our region will compete in the Sandhills Branch Competition on Sunday\, February 8th at 2:00pm at The Country Club of North Carolina. Experience the talent we have in our local high schools\, as they perform monologues and sonnets from the works of William Shakespeare. The winner of our competition will go on to compete in NYC in April at the National competition. This competition is especially important this year\, because it coincides with the ESU Annual General Meeting\, and the celebration of the 250th birthday of our nation! \n“This is one of our major school events for the year\, and one of the main reasons we exist as an organization.” Please join to witness the outstanding talent in our local high schools. For more information\, contact burnshome2018@gmail.com.
URL:https://thepinestimes.com/event/national-shakespeare-competition-2026/
LOCATION:The Village Chapel Pinehurst\, 10 Azalea Rd.\, Pinehurst\, NC\, 28374\, United States
CATEGORIES:Adults,Children,Contest,Hobby/Enthusiast,Moore County Events,Pinehurst Events,School,Social,Teen Activities,Young Adults
ATTACH;FMTTYPE=image/jpeg:https://thepinestimes.com/wp-content/uploads/ESUFeature.jpg
END:VEVENT
BEGIN:VEVENT
DTSTART;TZID=America/New_York:20251102T160000
DTEND;TZID=America/New_York:20251102T160000
DTSTAMP:20260420T212414
CREATED:20250502T165559Z
LAST-MODIFIED:20251003T204301Z
UID:10057337-1762099200-1762099200@thepinestimes.com
SUMMARY:The Village Chapel Music Series: "Duke University Chorale"
DESCRIPTION:The Village Chapel Music Series presents Duke University Chorale on Sunday\, November 2nd at 4:00pm. Under the direction of Dr. Allan Friedman\, this talented group of singers will perform. Experience one of the region’s premier collegiate vocal ensembles. Admission is free and all are welcome! For additional information\, follow the event website link provided below.
URL:https://thepinestimes.com/event/the-village-chapel-music-series-duke-university-chorale/
LOCATION:The Village Chapel Pinehurst\, 10 Azalea Rd.\, Pinehurst\, NC\, 28374\, United States
CATEGORIES:Adults,Anniversary Celebration,Concert,Family,Hobby/Enthusiast,Live Entertainment,Live Music,Pinehurst Events,Senior,Social
ATTACH;FMTTYPE=image/jpeg:https://thepinestimes.com/wp-content/uploads/VillageChapelFeature.jpg
END:VEVENT
END:VCALENDAR