BEGIN:VCALENDAR
VERSION:2.0
PRODID:-//The Pines Times - ECPv6.15.20//NONSGML v1.0//EN
CALSCALE:GREGORIAN
METHOD:PUBLISH
X-WR-CALNAME:The Pines Times
X-ORIGINAL-URL:https://thepinestimes.com
X-WR-CALDESC:Events for The Pines Times
REFRESH-INTERVAL;VALUE=DURATION:PT1H
X-Robots-Tag:noindex
X-PUBLISHED-TTL:PT1H
BEGIN:VTIMEZONE
TZID:America/New_York
BEGIN:DAYLIGHT
TZOFFSETFROM:-0500
TZOFFSETTO:-0400
TZNAME:EDT
DTSTART:20240310T070000
END:DAYLIGHT
BEGIN:STANDARD
TZOFFSETFROM:-0400
TZOFFSETTO:-0500
TZNAME:EST
DTSTART:20241103T060000
END:STANDARD
BEGIN:DAYLIGHT
TZOFFSETFROM:-0500
TZOFFSETTO:-0400
TZNAME:EDT
DTSTART:20250309T070000
END:DAYLIGHT
BEGIN:STANDARD
TZOFFSETFROM:-0400
TZOFFSETTO:-0500
TZNAME:EST
DTSTART:20251102T060000
END:STANDARD
BEGIN:DAYLIGHT
TZOFFSETFROM:-0500
TZOFFSETTO:-0400
TZNAME:EDT
DTSTART:20260308T070000
END:DAYLIGHT
BEGIN:STANDARD
TZOFFSETFROM:-0400
TZOFFSETTO:-0500
TZNAME:EST
DTSTART:20261101T060000
END:STANDARD
END:VTIMEZONE
BEGIN:VEVENT
DTSTART;TZID=America/New_York:20251101T170000
DTEND;TZID=America/New_York:20251101T190000
DTSTAMP:20260422T115718
CREATED:20251024T165337Z
LAST-MODIFIED:20251024T165337Z
UID:10073279-1762016400-1762023600@thepinestimes.com
SUMMARY:"You Deserve It Community Awards" 2025
DESCRIPTION:Formally known as “Sunday Night Live\,” this community awards event highlights unsung heroes in Moore County\, NC. Celebrate with local heroes in this delightful event filled with applause and entertainment. Join the You Deserve It! Community Awards on Saturday\, November 1st\, starting at 5:00pm at the Trinity A.M.E. Community Center (972 W. Pennsylvania Ave.\, Southern Pines\, NC). \nThis is a prestigious evening dedicated to honoring outstanding community citizens\, with the ceremony featuring entertainment\, dinner\, and awards. The event will be hosted by Marus Campbell and P. Ross\, and will include comedy from Ace Brown and music by Melissa Verbal. The event celebrates the 2025 Honorees\, including: \nHonorees Are: \nCharles & Ledell Ross – Down Memory Lane \nChris Scales – Scales Masonry \nJohn & Patsy Bright – Bright Meadows \nSue Deutsch – The Pines Times \nCynthia Brown – Spicy Senior Dancer \nJoseph Hill – Photographer \nJermaine Bright – Entrepreneur \nDr. Aeisha Jackson – Tru Horizons Inc. \nTickets are $30 for all seats and can be purchased through the event website link provided below.
URL:https://thepinestimes.com/event/you-deserve-it-community-awards-2025/
LOCATION:Trinity Community Outreach Center\, 972 W. Pennsylvania Ave.\, Southern Pines\, 28387\, United States
CATEGORIES:Adults,Ceremony,Comedy,Fall in the Sandhills,Food,Hobby/Enthusiast,Live Entertainment,Music,Senior,Social,Southern Pines Events
ATTACH;FMTTYPE=image/jpeg:https://thepinestimes.com/wp-content/uploads/YouDeserveItFeature.jpg
ORGANIZER;CN="WHISK Entertainment":MAILTO:whiskehtertainment1@hotmail.com
END:VEVENT
END:VCALENDAR