BEGIN:VCALENDAR
VERSION:2.0
PRODID:-//The Pines Times - ECPv6.15.20//NONSGML v1.0//EN
CALSCALE:GREGORIAN
METHOD:PUBLISH
X-ORIGINAL-URL:https://thepinestimes.com
X-WR-CALDESC:Events for The Pines Times
REFRESH-INTERVAL;VALUE=DURATION:PT1H
X-Robots-Tag:noindex
X-PUBLISHED-TTL:PT1H
BEGIN:VTIMEZONE
TZID:America/New_York
BEGIN:DAYLIGHT
TZOFFSETFROM:-0500
TZOFFSETTO:-0400
TZNAME:EDT
DTSTART:20250309T070000
END:DAYLIGHT
BEGIN:STANDARD
TZOFFSETFROM:-0400
TZOFFSETTO:-0500
TZNAME:EST
DTSTART:20251102T060000
END:STANDARD
BEGIN:DAYLIGHT
TZOFFSETFROM:-0500
TZOFFSETTO:-0400
TZNAME:EDT
DTSTART:20260308T070000
END:DAYLIGHT
BEGIN:STANDARD
TZOFFSETFROM:-0400
TZOFFSETTO:-0500
TZNAME:EST
DTSTART:20261101T060000
END:STANDARD
BEGIN:DAYLIGHT
TZOFFSETFROM:-0500
TZOFFSETTO:-0400
TZNAME:EDT
DTSTART:20270314T070000
END:DAYLIGHT
BEGIN:STANDARD
TZOFFSETFROM:-0400
TZOFFSETTO:-0500
TZNAME:EST
DTSTART:20271107T060000
END:STANDARD
END:VTIMEZONE
BEGIN:VEVENT
DTSTART;TZID=America/New_York:20260516T090000
DTEND;TZID=America/New_York:20260516T133000
DTSTAMP:20260426T000121
CREATED:20260424T131255Z
LAST-MODIFIED:20260424T131759Z
UID:10087147-1778922000-1778938200@thepinestimes.com
SUMMARY:Sandhills Trolley Company: The Thrift & Treasure Trolley Sanford Edition
DESCRIPTION:Hop on with Sandhills Trolley Company for The Thrift & Treasure Trolley: Sanford Edition on Saturday\, May 16th! The trolley departs from Piggly Wiggly\, 3373 US-1 BUS in Vass at 9AM. Grab your favorite shopping besties and hop aboard — we’re rolling back to Sanford for a perfectly planned morning of vintage treasures\, hidden gems\, and a lunch stop you’re going to love. \nJoin the Sandhills Trolley for a curated morning of thrift stores\, antique shops\, and unexpected score-worthy stops. The racks will be full\, the prices right\, and the thrill of the find? Half the fun. After our morning of treasure hunting\, we’ll stop for lunch at the famous The Dewberry Cafe — a local favorite that’s as charming as it is delicious. And yes… there’s an antique shop upstairs. Because of course there is. \nThe cost is $67.00+$1.68 ticket service fee. Your ticket includes the Dew Berry Duo\, so you can refuel\, recharge\, and show off your favorite finds before we head home with all your treasures in tow. No driving. No parking. No stress. Just shopping\, laughs\, and trolley-load after trolley-load of fabulous finds. \nSeats are limited to keep it cozy\, curated… and to leave plenty of room for everything you’ll be bringing back onboard. Once they’re gone\, they’re gone. Lunch is INCLUDED with your ticket. Check-in will begin 10 minutes before tour departure. Please note that coffee is not included in the ticket price. All ticket purchases are non-refundable. Cancellations made within 72 hours of the scheduled departure time are non-exchangeable. For full details and to secure your tickets online\, CLICK HERE.
URL:https://thepinestimes.com/event/sandhills-trolley-company-the-thrift-treasure-trolley-sanford-edition/
LOCATION:Vass Piggly Wiggly\, 3373 Hwy Us 1\, Vass\, NC\, 28394\, United States
CATEGORIES:Adults,Food,Hobby/Enthusiast,HOMEPAGE Featured,Sandhills Trolley Co.,Sanford Events,Shopping,Social,Tours,Tours
ATTACH;FMTTYPE=image/jpeg:https://thepinestimes.com/wp-content/uploads/SAndhillsTrolleyCofeature.jpg
ORGANIZER;CN="Sandhills Trolley Company":MAILTO:info@sandhillstrolley.com
END:VEVENT
END:VCALENDAR