BEGIN:VCALENDAR
VERSION:2.0
PRODID:-//The Pines Times - ECPv6.15.20//NONSGML v1.0//EN
CALSCALE:GREGORIAN
METHOD:PUBLISH
X-WR-CALNAME:The Pines Times
X-ORIGINAL-URL:https://thepinestimes.com
X-WR-CALDESC:Events for The Pines Times
REFRESH-INTERVAL;VALUE=DURATION:PT1H
X-Robots-Tag:noindex
X-PUBLISHED-TTL:PT1H
BEGIN:VTIMEZONE
TZID:America/New_York
BEGIN:DAYLIGHT
TZOFFSETFROM:-0500
TZOFFSETTO:-0400
TZNAME:EDT
DTSTART:20240310T070000
END:DAYLIGHT
BEGIN:STANDARD
TZOFFSETFROM:-0400
TZOFFSETTO:-0500
TZNAME:EST
DTSTART:20241103T060000
END:STANDARD
BEGIN:DAYLIGHT
TZOFFSETFROM:-0500
TZOFFSETTO:-0400
TZNAME:EDT
DTSTART:20250309T070000
END:DAYLIGHT
BEGIN:STANDARD
TZOFFSETFROM:-0400
TZOFFSETTO:-0500
TZNAME:EST
DTSTART:20251102T060000
END:STANDARD
BEGIN:DAYLIGHT
TZOFFSETFROM:-0500
TZOFFSETTO:-0400
TZNAME:EDT
DTSTART:20260308T070000
END:DAYLIGHT
BEGIN:STANDARD
TZOFFSETFROM:-0400
TZOFFSETTO:-0500
TZNAME:EST
DTSTART:20261101T060000
END:STANDARD
END:VTIMEZONE
BEGIN:VEVENT
DTSTART;TZID=America/New_York:20251025T173000
DTEND;TZID=America/New_York:20251025T203000
DTSTAMP:20260420T063832
CREATED:20241024T141819Z
LAST-MODIFIED:20251024T204337Z
UID:10046791-1761413400-1761424200@thepinestimes.com
SUMMARY:Village of Whispering Pines Haunted Trail
DESCRIPTION:Come out for frightening fun and food at the Whispering Pines Village Haunted Trail this Saturday\, October 25th at 14 Hardee Lane\, located behind the Police Station. Costumes are encouraged for the fun. No pets allowed. \nFamily Friendly Trail – 5:30pm to 6:30pm \nHaunted Trail – 6:30pm to 8:30pm \n“We have been warned… some scary creatures could not wait for Saturday so they will be at the haunted trail\, Friday\, October 24th from 6pm to 8pm. Come out and look for them if you dare!!!” \n \n  \n 
URL:https://thepinestimes.com/event/village-of-whispering-pines-haunted-trail/2025-10-25/
LOCATION:Whispering Pines Police Department\, 14 Hardee Lane\, Whispering Pines\, NC\, United States
CATEGORIES:Adults,Children,Exhibits,Family,Food,Games,Halloween,Holiday Events,Live Entertainment,Nature/Outdoors,Social,Whispering Pines Events
ATTACH;FMTTYPE=image/jpeg:https://thepinestimes.com/wp-content/uploads/WhisperingPinesFeature.jpg
END:VEVENT
BEGIN:VEVENT
DTSTART;TZID=America/New_York:20251024T180000
DTEND;TZID=America/New_York:20251024T200000
DTSTAMP:20260420T063832
CREATED:20241024T141819Z
LAST-MODIFIED:20251024T204337Z
UID:10073294-1761328800-1761336000@thepinestimes.com
SUMMARY:Village of Whispering Pines Haunted Trail
DESCRIPTION:Come out for frightening fun and food at the Whispering Pines Village Haunted Trail this Saturday\, October 25th at 14 Hardee Lane\, located behind the Police Station. Costumes are encouraged for the fun. No pets allowed. \nFamily Friendly Trail – 5:30pm to 6:30pm \nHaunted Trail – 6:30pm to 8:30pm \n“We have been warned… some scary creatures could not wait for Saturday so they will be at the haunted trail\, Friday\, October 24th from 6pm to 8pm. Come out and look for them if you dare!!!” \n \n  \n 
URL:https://thepinestimes.com/event/village-of-whispering-pines-haunted-trail/2025-10-24/
LOCATION:Whispering Pines Police Department\, 14 Hardee Lane\, Whispering Pines\, NC\, United States
CATEGORIES:Adults,Children,Exhibits,Family,Food,Games,Halloween,Holiday Events,Live Entertainment,Nature/Outdoors,Social,Whispering Pines Events
ATTACH;FMTTYPE=image/jpeg:https://thepinestimes.com/wp-content/uploads/WhisperingPinesFeature.jpg
END:VEVENT
END:VCALENDAR