BEGIN:VCALENDAR
VERSION:2.0
PRODID:-//The Pines Times - ECPv6.15.20//NONSGML v1.0//EN
CALSCALE:GREGORIAN
METHOD:PUBLISH
X-WR-CALNAME:The Pines Times
X-ORIGINAL-URL:https://thepinestimes.com
X-WR-CALDESC:Events for The Pines Times
REFRESH-INTERVAL;VALUE=DURATION:PT1H
X-Robots-Tag:noindex
X-PUBLISHED-TTL:PT1H
BEGIN:VTIMEZONE
TZID:America/New_York
BEGIN:DAYLIGHT
TZOFFSETFROM:-0500
TZOFFSETTO:-0400
TZNAME:EDT
DTSTART:20240310T070000
END:DAYLIGHT
BEGIN:STANDARD
TZOFFSETFROM:-0400
TZOFFSETTO:-0500
TZNAME:EST
DTSTART:20241103T060000
END:STANDARD
BEGIN:DAYLIGHT
TZOFFSETFROM:-0500
TZOFFSETTO:-0400
TZNAME:EDT
DTSTART:20250309T070000
END:DAYLIGHT
BEGIN:STANDARD
TZOFFSETFROM:-0400
TZOFFSETTO:-0500
TZNAME:EST
DTSTART:20251102T060000
END:STANDARD
BEGIN:DAYLIGHT
TZOFFSETFROM:-0500
TZOFFSETTO:-0400
TZNAME:EDT
DTSTART:20260308T070000
END:DAYLIGHT
BEGIN:STANDARD
TZOFFSETFROM:-0400
TZOFFSETTO:-0500
TZNAME:EST
DTSTART:20261101T060000
END:STANDARD
END:VTIMEZONE
BEGIN:VEVENT
DTSTART;TZID=America/New_York:20250913T120000
DTEND;TZID=America/New_York:20250913T150000
DTSTAMP:20260423T031646
CREATED:20250909T133819Z
LAST-MODIFIED:20250909T133819Z
UID:10068595-1757764800-1757775600@thepinestimes.com
SUMMARY:End of Summer Wine Tasting
DESCRIPTION:Join as Willabee Market is celebrating Maisonette’s first birthday with a special wine tasting event this Saturday\, September 13th | 12pm-3pm during the Block Party Celebration! The tasting will feature exclusive French wines\, cheese\, pastries and more! There will also be a demonstration of their new cast iron line\, Smitheys and special sales going on!
URL:https://thepinestimes.com/event/end-of-summer-wine-tasting/
LOCATION:Willabee Market\, 290 SW Broad St Unit A\, Southern Pines\, 28387\, United States
CATEGORIES:Anniversary Celebration,Beer and Wine,Birthday Celebration,Demonstrations,Hobby/Enthusiast,Music,Shopping,Social,Southern Pines Events,Tasting
ATTACH;FMTTYPE=image/jpeg:https://thepinestimes.com/wp-content/uploads/WillabeeFeature.jpg
END:VEVENT
END:VCALENDAR