BEGIN:VCALENDAR
VERSION:2.0
PRODID:-//The Pines Times - ECPv6.15.20//NONSGML v1.0//EN
CALSCALE:GREGORIAN
METHOD:PUBLISH
X-ORIGINAL-URL:https://thepinestimes.com
X-WR-CALDESC:Events for The Pines Times
REFRESH-INTERVAL;VALUE=DURATION:PT1H
X-Robots-Tag:noindex
X-PUBLISHED-TTL:PT1H
BEGIN:VTIMEZONE
TZID:America/New_York
BEGIN:DAYLIGHT
TZOFFSETFROM:-0500
TZOFFSETTO:-0400
TZNAME:EDT
DTSTART:20250309T070000
END:DAYLIGHT
BEGIN:STANDARD
TZOFFSETFROM:-0400
TZOFFSETTO:-0500
TZNAME:EST
DTSTART:20251102T060000
END:STANDARD
BEGIN:DAYLIGHT
TZOFFSETFROM:-0500
TZOFFSETTO:-0400
TZNAME:EDT
DTSTART:20260308T070000
END:DAYLIGHT
BEGIN:STANDARD
TZOFFSETFROM:-0400
TZOFFSETTO:-0500
TZNAME:EST
DTSTART:20261101T060000
END:STANDARD
BEGIN:DAYLIGHT
TZOFFSETFROM:-0500
TZOFFSETTO:-0400
TZNAME:EDT
DTSTART:20270314T070000
END:DAYLIGHT
BEGIN:STANDARD
TZOFFSETFROM:-0400
TZOFFSETTO:-0500
TZNAME:EST
DTSTART:20271107T060000
END:STANDARD
END:VTIMEZONE
BEGIN:VEVENT
DTSTART;TZID=America/New_York:20260122T183000
DTEND;TZID=America/New_York:20260122T203000
DTSTAMP:20260420T182445
CREATED:20251230T143645Z
LAST-MODIFIED:20260407T134239Z
UID:10078025-1769106600-1769113800@thepinestimes.com
SUMMARY:Line Dancing Thursday
DESCRIPTION:Get ready to step\, slide\, and vibe at Line Dancing at the WSP Center Auditorium in Southern Pines! Join each Thursday from 6:30pm-8:30pm for a weekly Line Dancing gathering focused on movement\, joy\, and community connection. Whether you’re a beginner or you already know the moves\, this is your chance to connect\, laugh\, and dance the night away with the community! Dancing is open to all ages and skill levels for just a $10 entry fee\, with snacks available for purchase to keep your energy up. \n \n 
URL:https://thepinestimes.com/event/line-dancing-thursday/2026-01-22/
LOCATION:WSP Center Auditorium\, 1250 W. New York Ave\, Southern Pines\, 28387
CATEGORIES:Adults,Dance,Dance Class,Family,Hobby/Enthusiast,Line Dancing,Music,Senior,Social,Southern Pines Events,Teen Activities,Young Adults
ATTACH;FMTTYPE=image/png:https://thepinestimes.com/wp-content/uploads/Dancing-in-the-Pines-e1755370461830.png
END:VEVENT
BEGIN:VEVENT
DTSTART;TZID=America/New_York:20260115T183000
DTEND;TZID=America/New_York:20260115T203000
DTSTAMP:20260420T182445
CREATED:20251230T143645Z
LAST-MODIFIED:20260407T134239Z
UID:10078024-1768501800-1768509000@thepinestimes.com
SUMMARY:Line Dancing Thursday
DESCRIPTION:Get ready to step\, slide\, and vibe at Line Dancing at the WSP Center Auditorium in Southern Pines! Join each Thursday from 6:30pm-8:30pm for a weekly Line Dancing gathering focused on movement\, joy\, and community connection. Whether you’re a beginner or you already know the moves\, this is your chance to connect\, laugh\, and dance the night away with the community! Dancing is open to all ages and skill levels for just a $10 entry fee\, with snacks available for purchase to keep your energy up. \n \n 
URL:https://thepinestimes.com/event/line-dancing-thursday/2026-01-15/
LOCATION:WSP Center Auditorium\, 1250 W. New York Ave\, Southern Pines\, 28387
CATEGORIES:Adults,Dance,Dance Class,Family,Hobby/Enthusiast,Line Dancing,Music,Senior,Social,Southern Pines Events,Teen Activities,Young Adults
ATTACH;FMTTYPE=image/png:https://thepinestimes.com/wp-content/uploads/Dancing-in-the-Pines-e1755370461830.png
END:VEVENT
END:VCALENDAR